BEGIN:VCALENDAR
VERSION:2.0
PRODID:-//Tukios.com/
BEGIN:VEVENT
UID:8bd54e29-0769-4f73-9ff6-4d7d30a9f271@obituaries.foresthillspalmcityflorida.com
DTSTAMP:20260422T172325Z
DTSTART:20260422T170000Z
DTEND:20260422T180000Z
SUMMARY:Viewing
DESCRIPTION:
URL:https://obituaries.foresthillspalmcityflorida.com/obituaries/janice-berger
LOCATION:St Elizabeth Ann Seton Church 930 SW Tunis Ave  Port St. Lucie 
	FL 34953
GEO:27.2464245;-80.3746647
END:VEVENT
END:VCALENDAR