BEGIN:VCALENDAR
VERSION:2.0
PRODID:-//Tukios.com/
BEGIN:VEVENT
UID:f03a66cf-0277-4a47-981a-eb40c429d10c@obituaries.foresthillspalmcityflorida.com
DTSTAMP:20260422T172040Z
DTSTART:20260422T180000Z
DTEND:20260422T190000Z
SUMMARY:Mass
DESCRIPTION:
URL:https://obituaries.foresthillspalmcityflorida.com/obituaries/janice-berger
LOCATION: 930 SW Tunis Ave  Port St. Lucie FL 34953
GEO:27.2466366;-80.3756805
END:VEVENT
END:VCALENDAR